BEGIN:VCALENDAR
VERSION:2.0
PRODID:-//Mairie Saint-André-de-Sangonis - ECPv6.0.6.2//NONSGML v1.0//EN
CALSCALE:GREGORIAN
METHOD:PUBLISH
X-WR-CALNAME:Mairie Saint-André-de-Sangonis
X-ORIGINAL-URL:https://saintandredesangonis.fr
X-WR-CALDESC:Events for Mairie Saint-André-de-Sangonis
REFRESH-INTERVAL;VALUE=DURATION:PT1H
X-Robots-Tag:noindex
X-PUBLISHED-TTL:PT1H
BEGIN:VTIMEZONE
TZID:Europe/Paris
BEGIN:DAYLIGHT
TZOFFSETFROM:+0100
TZOFFSETTO:+0200
TZNAME:CEST
DTSTART:20260329T010000
END:DAYLIGHT
BEGIN:STANDARD
TZOFFSETFROM:+0200
TZOFFSETTO:+0100
TZNAME:CET
DTSTART:20261025T010000
END:STANDARD
END:VTIMEZONE
BEGIN:VEVENT
DTSTART;TZID=Europe/Paris:20260428T100000
DTEND;TZID=Europe/Paris:20260428T113000
DTSTAMP:20260420T043501
CREATED:20260408T074920Z
LAST-MODIFIED:20260408T132055Z
UID:28408-1777370400-1777375800@saintandredesangonis.fr
SUMMARY:Atelier de comptines et racontines autour de la thématique du printemps
DESCRIPTION:Atelier de comptines et racontines autour de la thématique du printemps animé par Floriane VARGAS de la Jolie Parentaise. \n  \n\n\n\nInscription obligatoire au 04 67 57 91 41. \n\n\n\n\n 
URL:https://saintandredesangonis.fr/event/atelier-de-comptines-et-racontines-autour-de-la-thematique-du-printemps/
LOCATION:EMS\, 20 cours de la Liberté
CATEGORIES:Famille,Jeunesse,Mozaïka
ATTACH;FMTTYPE=image/jpeg:https://saintandredesangonis.fr/wp-content/uploads/2026/04/391898e9-465b-4135-9be2-055f1d63b346.jpg
END:VEVENT
END:VCALENDAR