BEGIN:VCALENDAR
VERSION:2.0
PRODID:-//Mairie Saint-André-de-Sangonis - ECPv6.0.6.2//NONSGML v1.0//EN
CALSCALE:GREGORIAN
METHOD:PUBLISH
X-WR-CALNAME:Mairie Saint-André-de-Sangonis
X-ORIGINAL-URL:https://saintandredesangonis.fr
X-WR-CALDESC:Events for Mairie Saint-André-de-Sangonis
REFRESH-INTERVAL;VALUE=DURATION:PT1H
X-Robots-Tag:noindex
X-PUBLISHED-TTL:PT1H
BEGIN:VTIMEZONE
TZID:Europe/Paris
BEGIN:DAYLIGHT
TZOFFSETFROM:+0100
TZOFFSETTO:+0200
TZNAME:CEST
DTSTART:20260329T010000
END:DAYLIGHT
BEGIN:STANDARD
TZOFFSETFROM:+0200
TZOFFSETTO:+0100
TZNAME:CET
DTSTART:20261025T010000
END:STANDARD
END:VTIMEZONE
BEGIN:VEVENT
DTSTART;TZID=Europe/Paris:20260423T133000
DTEND;TZID=Europe/Paris:20260423T220000
DTSTAMP:20260419T192901
CREATED:20260402T134117Z
LAST-MODIFIED:20260402T134117Z
UID:28303-1776951000-1776981600@saintandredesangonis.fr
SUMMARY:Cinéma
DESCRIPTION:
URL:https://saintandredesangonis.fr/event/cinema-34/
ATTACH;FMTTYPE=image/png:https://saintandredesangonis.fr/wp-content/uploads/2026/04/23-04-affiche-blanc-StAndre.png
END:VEVENT
END:VCALENDAR