BEGIN:VCALENDAR
VERSION:2.0
PRODID:-//Mairie Saint-André-de-Sangonis - ECPv6.0.6.2//NONSGML v1.0//EN
CALSCALE:GREGORIAN
METHOD:PUBLISH
X-WR-CALNAME:Mairie Saint-André-de-Sangonis
X-ORIGINAL-URL:https://saintandredesangonis.fr
X-WR-CALDESC:Events for Mairie Saint-André-de-Sangonis
REFRESH-INTERVAL;VALUE=DURATION:PT1H
X-Robots-Tag:noindex
X-PUBLISHED-TTL:PT1H
BEGIN:VTIMEZONE
TZID:Europe/Paris
BEGIN:DAYLIGHT
TZOFFSETFROM:+0100
TZOFFSETTO:+0200
TZNAME:CEST
DTSTART:20260329T010000
END:DAYLIGHT
BEGIN:STANDARD
TZOFFSETFROM:+0200
TZOFFSETTO:+0100
TZNAME:CET
DTSTART:20261025T010000
END:STANDARD
END:VTIMEZONE
BEGIN:VEVENT
DTSTART;TZID=Europe/Paris:20260422T140000
DTEND;TZID=Europe/Paris:20260422T170000
DTSTAMP:20260419T193020
CREATED:20260408T132315Z
LAST-MODIFIED:20260408T132327Z
UID:28475-1776866400-1776877200@saintandredesangonis.fr
SUMMARY:Initiation aux premiers secours - Enfants et Nourrissons
DESCRIPTION:
URL:https://saintandredesangonis.fr/event/initiation-aux-premiers-secours-enfants-et-nourrissons/
LOCATION:Maison intergénérationnelle Paulette Ayot\, Cours de la Liberté (face à la salle des fêtes)\, Saint-André-de-Sangonis
CATEGORIES:Mozaïka
ATTACH;FMTTYPE=image/jpeg:https://saintandredesangonis.fr/wp-content/uploads/2026/04/e78b844e-cfb3-4786-a837-69784d390c23.jpg
END:VEVENT
END:VCALENDAR