BEGIN:VCALENDAR
VERSION:2.0
PRODID:-//Mairie Saint-André-de-Sangonis - ECPv6.0.6.2//NONSGML v1.0//EN
CALSCALE:GREGORIAN
METHOD:PUBLISH
X-WR-CALNAME:Mairie Saint-André-de-Sangonis
X-ORIGINAL-URL:https://saintandredesangonis.fr
X-WR-CALDESC:Events for Mairie Saint-André-de-Sangonis
REFRESH-INTERVAL;VALUE=DURATION:PT1H
X-Robots-Tag:noindex
X-PUBLISHED-TTL:PT1H
BEGIN:VTIMEZONE
TZID:Europe/Paris
BEGIN:DAYLIGHT
TZOFFSETFROM:+0100
TZOFFSETTO:+0200
TZNAME:CEST
DTSTART:20260329T010000
END:DAYLIGHT
BEGIN:STANDARD
TZOFFSETFROM:+0200
TZOFFSETTO:+0100
TZNAME:CET
DTSTART:20261025T010000
END:STANDARD
END:VTIMEZONE
BEGIN:VEVENT
DTSTART;TZID=Europe/Paris:20260420T103000
DTEND;TZID=Europe/Paris:20260420T120000
DTSTAMP:20260419T192735
CREATED:20260416T093658Z
LAST-MODIFIED:20260416T094646Z
UID:28550-1776681000-1776686400@saintandredesangonis.fr
SUMMARY:Loisirs en famille : visite de la fabrique "Les Berlingots de Pézenas & balade
DESCRIPTION:
URL:https://saintandredesangonis.fr/event/loisirs-en-famille-visite-de-la-fabrique-les-berlingots-de-pezenas-balade/
ATTACH;FMTTYPE=image/jpeg:https://saintandredesangonis.fr/wp-content/uploads/2026/04/LOISIRS-EN-FAMILLE-PROGRAMME-PRINTEMPS-2026.jpg
END:VEVENT
END:VCALENDAR