BEGIN:VCALENDAR
VERSION:2.0
PRODID:-//Mairie Saint-André-de-Sangonis - ECPv6.0.6.2//NONSGML v1.0//EN
CALSCALE:GREGORIAN
METHOD:PUBLISH
X-WR-CALNAME:Mairie Saint-André-de-Sangonis
X-ORIGINAL-URL:https://saintandredesangonis.fr
X-WR-CALDESC:Events for Mairie Saint-André-de-Sangonis
REFRESH-INTERVAL;VALUE=DURATION:PT1H
X-Robots-Tag:noindex
X-PUBLISHED-TTL:PT1H
BEGIN:VTIMEZONE
TZID:Europe/Paris
BEGIN:DAYLIGHT
TZOFFSETFROM:+0100
TZOFFSETTO:+0200
TZNAME:CEST
DTSTART:20260329T010000
END:DAYLIGHT
BEGIN:STANDARD
TZOFFSETFROM:+0200
TZOFFSETTO:+0100
TZNAME:CET
DTSTART:20261025T010000
END:STANDARD
END:VTIMEZONE
BEGIN:VEVENT
DTSTART;VALUE=DATE:20260420
DTEND;VALUE=DATE:20260426
DTSTAMP:20260419T193157
CREATED:20260402T080434Z
LAST-MODIFIED:20260402T080434Z
UID:28299-1776643200-1777161599@saintandredesangonis.fr
SUMMARY:Passe ton Bafa et deviens animateur !
DESCRIPTION:
URL:https://saintandredesangonis.fr/event/passe-ton-bafa-et-deviens-animateur/
ATTACH;FMTTYPE=image/png:https://saintandredesangonis.fr/wp-content/uploads/2026/04/27c4f738-1de0-4054-bc50-900800bfd3c4.png
END:VEVENT
END:VCALENDAR