BEGIN:VCALENDAR
VERSION:2.0
PRODID:-//Mairie Saint-André-de-Sangonis - ECPv6.0.6.2//NONSGML v1.0//EN
CALSCALE:GREGORIAN
METHOD:PUBLISH
X-WR-CALNAME:Mairie Saint-André-de-Sangonis
X-ORIGINAL-URL:https://saintandredesangonis.fr
X-WR-CALDESC:Events for Mairie Saint-André-de-Sangonis
REFRESH-INTERVAL;VALUE=DURATION:PT1H
X-Robots-Tag:noindex
X-PUBLISHED-TTL:PT1H
BEGIN:VTIMEZONE
TZID:Europe/Paris
BEGIN:DAYLIGHT
TZOFFSETFROM:+0100
TZOFFSETTO:+0200
TZNAME:CEST
DTSTART:20260329T010000
END:DAYLIGHT
BEGIN:STANDARD
TZOFFSETFROM:+0200
TZOFFSETTO:+0100
TZNAME:CET
DTSTART:20261025T010000
END:STANDARD
END:VTIMEZONE
BEGIN:VEVENT
DTSTART;TZID=Europe/Paris:20260428T183000
DTEND;TZID=Europe/Paris:20260428T200000
DTSTAMP:20260424T021042
CREATED:20260416T093102Z
LAST-MODIFIED:20260416T093102Z
UID:28547-1777401000-1777406400@saintandredesangonis.fr
SUMMARY:Réunion d'information - Travaux de modernisation du siphon de Lagamas
DESCRIPTION:L’Association Syndicale Autorisée du canal de Gignac vous convie à une réunion d’information et d’échanges relative aux travaux de modernisation du siphon de Lagamas\, engagés depuis janvier 2026 et concernant les communes de Saint-André-de-Sangonis\, Ceyras et Saint-Félix-de-Lodez. (les parcelles concernées sont visibles sur la carte ci-dessous). \n \n\n\n\nCette réunion se tiendra le mardi 28 avril 2026 à 18h30 à la salle Paulette Ayot située à Saint-André-de-Sangonis. \nElle permettra de présenter un point d’avancement des travaux de réhabilitation réalisés\, de présenter également la date de réouverture et de remise en eau de l’ouvrage pour la saison 2026. \nLa rencontre se conclura par un temps d’échanges sous forme de questions-réponses\, afin d’apporter toutes les précisions utiles sur les aspects techniques et administratifs liés à ces opérations.
URL:https://saintandredesangonis.fr/event/reunion-dinformation-travaux-de-modernisation-du-siphon-de-lagamas-2/
LOCATION:Maison intergénérationnelle Paulette Ayot\, Cours de la Liberté (face à la salle des fêtes)\, Saint-André-de-Sangonis
ATTACH;FMTTYPE=image/jpeg:https://saintandredesangonis.fr/wp-content/uploads/2026/02/20260219_143828.jpg
END:VEVENT
END:VCALENDAR